BEGIN:VCALENDAR
VERSION:2.0
PRODID:-//Antonius Rekken - ECPv6.6.0.2//NONSGML v1.0//EN
CALSCALE:GREGORIAN
METHOD:PUBLISH
X-WR-CALNAME:Antonius Rekken
X-ORIGINAL-URL:https://antoniusrekken.nl
X-WR-CALDESC:Evenementen voor Antonius Rekken
REFRESH-INTERVAL;VALUE=DURATION:PT1H
X-Robots-Tag:noindex
X-PUBLISHED-TTL:PT1H
BEGIN:VTIMEZONE
TZID:Europe/Amsterdam
BEGIN:DAYLIGHT
TZOFFSETFROM:+0100
TZOFFSETTO:+0200
TZNAME:CEST
DTSTART:20260329T010000
END:DAYLIGHT
BEGIN:STANDARD
TZOFFSETFROM:+0200
TZOFFSETTO:+0100
TZNAME:CET
DTSTART:20261025T010000
END:STANDARD
END:VTIMEZONE
BEGIN:VEVENT
DTSTART;TZID=Europe/Amsterdam:20260417T080000
DTEND;TZID=Europe/Amsterdam:20260604T170000
DTSTAMP:20260423T115222
CREATED:20260415T172428Z
LAST-MODIFIED:20260415T172428Z
UID:8850-1776412800-1780592400@antoniusrekken.nl
SUMMARY:Expositie J. Brunnekreeft
DESCRIPTION:Van 17 april tot 4 juni 2026 exposeert Jenneke Brunnekreeft haar werk in Rekken.\nDe expositie is te zien in de Antonius aan de Lindevoort 20. \nBrunnekreeft toont olieverfschilderijen\, aquarellen en handbeschilderd porselein met het thema:\n“ De Natuur als Inspiratiebron”\nDe expositie is iedere donderdag te bezichtigen van 10:30 -12:00 uur\nen op zaterdag 18 april en 16 mei van 9:00 -12:00 uur. \nOp zondag 3 mei geeft Brunnekreeft van 15:00 -17:00 uur een schilderdemonstratie.\nU bent van harte welkom\, de toegang is gratis. \nJenneke Brunnekreeft ( geboren te Beckum\, 1959 ) is een realistische Nederlandse schilder\, wiens\nwerk gebaseerd is op haar belangstelling voor de natuur. Opgegroeid in het prachtige Twentse\nlandschap op de boerderij van haar ouders\, ontwikkelde ze al jong een gevoel van het ritme\, het\nlicht en de prachtige schoonheid van de natuur. Deze invloed heeft haar artistieke visie\nvoortdurend bepaalt. \nIn 1977 combineerde ze een opleiding tot plateelschilder bij de Porceleyne Fles te Delft met een\nstudie aan de Koninklijke Academie voor Beeldende Kunsten in Den Haag. Deze opleidingen\ngaven een rigoreuze technische basis; de combinatie van klassiek vakmanschap met een\nvoortdurende ontwikkeling in kunst. \nSinds 1982 ging Jenneke terug naar haar geboortestreek\, waar ze haar Atelier Zwierige Penseel\nopende. Sindsdien schildert ze iedere dag de schilderijen die ze ook in het buitenland exposeert\,\no.a. in Amsterdam\, Londen\, Parijs\, Seoul\, Venetië\, Dubai en New York. \nHaar schilderijen\, variërend van portretten tot stillevens en landschappen\, zijn herkenbaar aan de\nprecisie\, het gevoel en emotionele diepte. Door aandachtig te kijken en door een sterk\nontwikkelde technische vaardigheid vangt ze niet alleen de fysieke gelijkenis van haar\nonderwerpen\, maar ook het onderliggende karakter en de atmosfeer. \nIn 2025 ontving ze in Italië een Internationale Top 60 Masters onderscheiding voor haar bijdrage\naan de hedendaagse figuratieve schilderkunst. \n“In een wereld\, die in een razend tempo beweegt\, nodigt Jenneke Brunnekreeft ons uit om terug\nte keren naar een rustige diepte van waarneming- waar schoonheid\, aanwezigheid en betekenis\nzich ontvouwen in de tijd”. V. Puello
URL:https://antoniusrekken.nl/evenement-achterhoek/expositie-j-brunnekreeft/
END:VEVENT
BEGIN:VEVENT
DTSTART;TZID=Europe/Amsterdam:20260423T100000
DTEND;TZID=Europe/Amsterdam:20260423T113000
DTSTAMP:20260423T115222
CREATED:20260415T173302Z
LAST-MODIFIED:20260415T173302Z
UID:8855-1776938400-1776943800@antoniusrekken.nl
SUMMARY:Koffie inloop
DESCRIPTION:Elke donderdagochtend van 10.00u – 11.30u is er koffie-inloop. Iedereen is van harte welkom voor een kop koffie en gewoon gezellig samenzijn.
URL:https://antoniusrekken.nl/evenement-achterhoek/koffie-inloop-2/
END:VEVENT
BEGIN:VEVENT
DTSTART;TZID=Europe/Amsterdam:20260423T180000
DTEND;TZID=Europe/Amsterdam:20260423T200000
DTSTAMP:20260423T115222
CREATED:20260415T172157Z
LAST-MODIFIED:20260415T172217Z
UID:8845-1776967200-1776974400@antoniusrekken.nl
SUMMARY:Eetcafé
DESCRIPTION:Elke 1e dinsdag van de maand is er eetcafé in de Antonius voor Rekkenaren en oud Rekkenaren. Er kan genoten worden van een 3-gangen diner\, bereid door onze fantastische koks. Het eten begint om 18.00u\, inloop vanaf 17.30u. Kosten: 12\,50 euro.\nAls u wilt meegenieten van dit gezamenlijke eten\, kunt u zich opgeven bij Alie sieben\, tel. 06 13509676 of aliesieben@hotmail.com
URL:https://antoniusrekken.nl/evenement-achterhoek/eetcafe-copy/
CATEGORIES:Eetcafé
END:VEVENT
END:VCALENDAR